BEGIN:VCALENDAR
VERSION:2.0
PRODID:-//Eglise chrétienne évangélique Elim - ECPv6.0.6.2//NONSGML v1.0//EN
CALSCALE:GREGORIAN
METHOD:PUBLISH
X-ORIGINAL-URL:https://www.foyer-evangelique-elim.com
X-WR-CALDESC:Events for Eglise chrétienne évangélique Elim
REFRESH-INTERVAL;VALUE=DURATION:PT1H
X-Robots-Tag:noindex
X-PUBLISHED-TTL:PT1H
BEGIN:VTIMEZONE
TZID:Europe/Paris
BEGIN:DAYLIGHT
TZOFFSETFROM:+0100
TZOFFSETTO:+0200
TZNAME:CEST
DTSTART:20200329T010000
END:DAYLIGHT
BEGIN:STANDARD
TZOFFSETFROM:+0200
TZOFFSETTO:+0100
TZNAME:CET
DTSTART:20201025T010000
END:STANDARD
END:VTIMEZONE
BEGIN:VEVENT
DTSTART;TZID=Europe/Paris:20200307T173000
DTEND;TZID=Europe/Paris:20200307T210000
DTSTAMP:20260420T003111
CREATED:20190922T125644Z
LAST-MODIFIED:20190922T125644Z
UID:1121-1583602200-1583614800@www.foyer-evangelique-elim.com
SUMMARY:Club "Clap's" (+ de 12 ans) : "Jeux de société"
DESCRIPTION:
URL:https://www.foyer-evangelique-elim.com/event/club-claps-de-12-ans-jeux-de-societe/
LOCATION:Foyer Evangélique ELIM\, 48 Rue de l'Abbé Lemire\, Lambersart\, 59130\, France
CATEGORIES:Activités / Sorties
END:VEVENT
BEGIN:VEVENT
DTSTART;TZID=Europe/Paris:20200315T160000
DTEND;TZID=Europe/Paris:20200315T180000
DTSTAMP:20260420T003111
CREATED:20200306T104255Z
LAST-MODIFIED:20200426T223309Z
UID:1201-1584288000-1584295200@www.foyer-evangelique-elim.com
SUMMARY:Après-midi Témoignages : « Une parole qui bouleverse la vie ! »
DESCRIPTION:
URL:https://www.foyer-evangelique-elim.com/event/apres-midi-temoignages-une-parole-qui-bouleverse-la-vie/
LOCATION:Foyer Evangélique ELIM\, 48 Rue de l'Abbé Lemire\, Lambersart\, 59130\, France
CATEGORIES:Evangélisation
ATTACH;FMTTYPE=image/png:https://www.foyer-evangelique-elim.com/wp-content/uploads/2020/03/AMT_Mars-2020.png
END:VEVENT
END:VCALENDAR