BEGIN:VCALENDAR
VERSION:2.0
PRODID:-//Eglise chrétienne évangélique Elim - ECPv6.0.6.2//NONSGML v1.0//EN
CALSCALE:GREGORIAN
METHOD:PUBLISH
X-WR-CALNAME:Eglise chrétienne évangélique Elim
X-ORIGINAL-URL:https://www.foyer-evangelique-elim.com
X-WR-CALDESC:Events for Eglise chrétienne évangélique Elim
REFRESH-INTERVAL;VALUE=DURATION:PT1H
X-Robots-Tag:noindex
X-PUBLISHED-TTL:PT1H
BEGIN:VTIMEZONE
TZID:Europe/Paris
BEGIN:DAYLIGHT
TZOFFSETFROM:+0100
TZOFFSETTO:+0200
TZNAME:CEST
DTSTART:20190331T010000
END:DAYLIGHT
BEGIN:STANDARD
TZOFFSETFROM:+0200
TZOFFSETTO:+0100
TZNAME:CET
DTSTART:20191027T010000
END:STANDARD
END:VTIMEZONE
BEGIN:VEVENT
DTSTART;TZID=Europe/Paris:20190501T140000
DTEND;TZID=Europe/Paris:20190501T170000
DTSTAMP:20260422T123331
CREATED:20190330T213333Z
LAST-MODIFIED:20190413T195408Z
UID:1027-1556719200-1556730000@www.foyer-evangelique-elim.com
SUMMARY:Rencontres et bonnes affaires !
DESCRIPTION:
URL:https://www.foyer-evangelique-elim.com/event/evenement-du-1er-mai/
LOCATION:Foyer Evangélique ELIM\, 48 Rue de l'Abbé Lemire\, Lambersart\, 59130\, France
CATEGORIES:Activités / Sorties
ATTACH;FMTTYPE=image/jpeg:https://www.foyer-evangelique-elim.com/wp-content/uploads/2019/04/ELIM_1er-mai-2019.jpg
END:VEVENT
BEGIN:VEVENT
DTSTART;TZID=Europe/Paris:20190503T200000
DTEND;TZID=Europe/Paris:20190503T220000
DTSTAMP:20260422T123331
CREATED:20190330T213055Z
LAST-MODIFIED:20190330T213055Z
UID:1023-1556913600-1556920800@www.foyer-evangelique-elim.com
SUMMARY:Sensibilisation sur les chrétiens persécutés : "La face cachée de l'Inde"
DESCRIPTION:
URL:https://www.foyer-evangelique-elim.com/event/sensibilisation-sur-les-chretiens-persecutes-la-face-cachee-de-linde/
LOCATION:Foyer Evangélique ELIM\, 48 Rue de l'Abbé Lemire\, Lambersart\, 59130\, France
CATEGORIES:Evangélisation
ATTACH;FMTTYPE=image/jpeg:https://www.foyer-evangelique-elim.com/wp-content/uploads/2019/03/20190503-La-face-cachée-de-linde.jpg
END:VEVENT
BEGIN:VEVENT
DTSTART;TZID=Europe/Paris:20190519T160000
DTEND;TZID=Europe/Paris:20190519T180000
DTSTAMP:20260422T123331
CREATED:20190330T213216Z
LAST-MODIFIED:20190518T192657Z
UID:1025-1558281600-1558288800@www.foyer-evangelique-elim.com
SUMMARY:Après-midi Témoignages
DESCRIPTION:
URL:https://www.foyer-evangelique-elim.com/event/apres-midi-temoignages-2/
LOCATION:Foyer Evangélique ELIM\, 48 Rue de l'Abbé Lemire\, Lambersart\, 59130\, France
CATEGORIES:Activités / Sorties,Evangélisation
ATTACH;FMTTYPE=image/jpeg:https://www.foyer-evangelique-elim.com/wp-content/uploads/2019/05/AMT_Mai-2019.jpg
END:VEVENT
END:VCALENDAR