BEGIN:VCALENDAR
VERSION:2.0
PRODID:-//Eglise chrétienne évangélique Elim - ECPv6.0.6.2//NONSGML v1.0//EN
CALSCALE:GREGORIAN
METHOD:PUBLISH
X-ORIGINAL-URL:https://www.foyer-evangelique-elim.com
X-WR-CALDESC:Events for Eglise chrétienne évangélique Elim
REFRESH-INTERVAL;VALUE=DURATION:PT1H
X-Robots-Tag:noindex
X-PUBLISHED-TTL:PT1H
BEGIN:VTIMEZONE
TZID:Europe/Paris
BEGIN:DAYLIGHT
TZOFFSETFROM:+0100
TZOFFSETTO:+0200
TZNAME:CEST
DTSTART:20180325T010000
END:DAYLIGHT
BEGIN:STANDARD
TZOFFSETFROM:+0200
TZOFFSETTO:+0100
TZNAME:CET
DTSTART:20181028T010000
END:STANDARD
END:VTIMEZONE
BEGIN:VEVENT
DTSTART;TZID=Europe/Paris:20181209T150000
DTEND;TZID=Europe/Paris:20181209T170000
DTSTAMP:20260422T212144
CREATED:20181125T012946Z
LAST-MODIFIED:20181125T012946Z
UID:917-1544367600-1544374800@www.foyer-evangelique-elim.com
SUMMARY:Fête des aînés à Hazebrouck
DESCRIPTION:
URL:https://www.foyer-evangelique-elim.com/event/fete-des-aines-a-hazebrouck/
CATEGORIES:Evangélisation,Vie d'Eglise
END:VEVENT
BEGIN:VEVENT
DTSTART;TZID=Europe/Paris:20181216T153000
DTEND;TZID=Europe/Paris:20181216T173000
DTSTAMP:20260422T212144
CREATED:20181125T013025Z
LAST-MODIFIED:20181126T103228Z
UID:919-1544974200-1544981400@www.foyer-evangelique-elim.com
SUMMARY:Fête des aînés à Lambersart
DESCRIPTION:
URL:https://www.foyer-evangelique-elim.com/event/fete-des-aines-a-lambersart/
LOCATION:Foyer Evangélique ELIM\, 48 Rue de l'Abbé Lemire\, Lambersart\, 59130\, France
CATEGORIES:Vie d'Eglise
ATTACH;FMTTYPE=image/png:https://www.foyer-evangelique-elim.com/wp-content/uploads/2018/11/Fete_ainés_122018.png
END:VEVENT
BEGIN:VEVENT
DTSTART;TZID=Europe/Paris:20181222T190000
DTEND;TZID=Europe/Paris:20181222T210000
DTSTAMP:20260422T212144
CREATED:20181125T012844Z
LAST-MODIFIED:20181201T224341Z
UID:915-1545505200-1545512400@www.foyer-evangelique-elim.com
SUMMARY:Soirée de louange "Chanter le Dieu Sauveur"
DESCRIPTION:
URL:https://www.foyer-evangelique-elim.com/event/soiree-de-louange/
LOCATION:Foyer Evangélique ELIM\, 48 Rue de l'Abbé Lemire\, Lambersart\, 59130\, France
CATEGORIES:Evangélisation
ATTACH;FMTTYPE=image/png:https://www.foyer-evangelique-elim.com/wp-content/uploads/2018/12/Chanter_le_dieu_sauveur.png
END:VEVENT
END:VCALENDAR