BEGIN:VCALENDAR
VERSION:2.0
PRODID:-//Eglise chrétienne évangélique Elim - ECPv6.0.6.2//NONSGML v1.0//EN
CALSCALE:GREGORIAN
METHOD:PUBLISH
X-ORIGINAL-URL:https://www.foyer-evangelique-elim.com
X-WR-CALDESC:Events for Eglise chrétienne évangélique Elim
REFRESH-INTERVAL;VALUE=DURATION:PT1H
X-Robots-Tag:noindex
X-PUBLISHED-TTL:PT1H
BEGIN:VTIMEZONE
TZID:Europe/Paris
BEGIN:DAYLIGHT
TZOFFSETFROM:+0100
TZOFFSETTO:+0200
TZNAME:CEST
DTSTART:20170326T010000
END:DAYLIGHT
BEGIN:STANDARD
TZOFFSETFROM:+0200
TZOFFSETTO:+0100
TZNAME:CET
DTSTART:20171029T010000
END:STANDARD
BEGIN:DAYLIGHT
TZOFFSETFROM:+0100
TZOFFSETTO:+0200
TZNAME:CEST
DTSTART:20180325T010000
END:DAYLIGHT
BEGIN:STANDARD
TZOFFSETFROM:+0200
TZOFFSETTO:+0100
TZNAME:CET
DTSTART:20181028T010000
END:STANDARD
END:VTIMEZONE
BEGIN:VEVENT
DTSTART;VALUE=DATE:20171127
DTEND;VALUE=DATE:20171204
DTSTAMP:20260423T164131
CREATED:20171118T213845Z
LAST-MODIFIED:20171118T213845Z
UID:706-1511740800-1512345599@www.foyer-evangelique-elim.com
SUMMARY:Expo Bible
DESCRIPTION:
URL:https://www.foyer-evangelique-elim.com/event/expo-bible/
LOCATION:Foyer Evangélique ELIM\, 48 Rue de l'Abbé Lemire\, Lambersart\, 59130\, France
CATEGORIES:Activités / Sorties,Vie d'Eglise
ATTACH;FMTTYPE=image/jpeg:https://www.foyer-evangelique-elim.com/wp-content/uploads/2017/11/Affiche_Expo_Bible_2017.jpg
END:VEVENT
BEGIN:VEVENT
DTSTART;TZID=Europe/Paris:20171217T153000
DTEND;TZID=Europe/Paris:20171217T173000
DTSTAMP:20260423T164131
CREATED:20161119T221626Z
LAST-MODIFIED:20171211T064629Z
UID:514-1513524600-1513531800@www.foyer-evangelique-elim.com
SUMMARY:Fête des ainés (Lambersart)
DESCRIPTION:Autour d’un bon goûter\, vous pourrez entendre et voir des enfants\, des jeunes et des adultes de l’Eglise Evangélique ELIM et de l’Assemblée Evangélique d’Hazebrouck chanter et interpréter différents scénarios. \nVenez en toute simplicité\, dans la joie et la paix.
URL:https://www.foyer-evangelique-elim.com/event/fete-des-aines-lambersart/
LOCATION:Foyer Evangélique ELIM\, 48 Rue de l'Abbé Lemire\, Lambersart\, 59130\, France
CATEGORIES:Vie d'Eglise
END:VEVENT
BEGIN:VEVENT
DTSTART;TZID=Europe/Paris:20171222T193000
DTEND;TZID=Europe/Paris:20171222T213000
DTSTAMP:20260423T164131
CREATED:20171211T064844Z
LAST-MODIFIED:20171220T112118Z
UID:716-1513971000-1513978200@www.foyer-evangelique-elim.com
SUMMARY:Concert de l'Avent
DESCRIPTION:
URL:https://www.foyer-evangelique-elim.com/event/concert-de-lavent/
LOCATION:Foyer Evangélique ELIM\, 48 Rue de l'Abbé Lemire\, Lambersart\, 59130\, France
CATEGORIES:Activités / Sorties
ATTACH;FMTTYPE=image/png:https://www.foyer-evangelique-elim.com/wp-content/uploads/2017/12/Affiche-2concert-de-l-avant-Lambersart2017.png
END:VEVENT
BEGIN:VEVENT
DTSTART;TZID=Europe/Paris:20171224T093000
DTEND;TZID=Europe/Paris:20171224T114500
DTSTAMP:20260423T164131
CREATED:20161119T222217Z
LAST-MODIFIED:20171211T065402Z
UID:516-1514107800-1514115900@www.foyer-evangelique-elim.com
SUMMARY:Culte de Noël
DESCRIPTION:Baptêmes à 9h30\nCulte de Noël à 10h
URL:https://www.foyer-evangelique-elim.com/event/culte-de-noel/
LOCATION:Foyer Evangélique ELIM\, 48 Rue de l'Abbé Lemire\, Lambersart\, 59130\, France
CATEGORIES:Vie d'Eglise
END:VEVENT
BEGIN:VEVENT
DTSTART;TZID=Europe/Paris:20171231T200000
DTEND;TZID=Europe/Paris:20180101T010000
DTSTAMP:20260423T164131
CREATED:20171211T065225Z
LAST-MODIFIED:20171211T065225Z
UID:721-1514750400-1514768400@www.foyer-evangelique-elim.com
SUMMARY:Veillée du nouvel An
DESCRIPTION:
URL:https://www.foyer-evangelique-elim.com/event/veillee-du-nouvel-an/
LOCATION:Foyer Evangélique ELIM\, 48 Rue de l'Abbé Lemire\, Lambersart\, 59130\, France
CATEGORIES:Activités / Sorties
END:VEVENT
END:VCALENDAR