BEGIN:VCALENDAR
VERSION:2.0
PRODID:-//Eglise chrétienne évangélique Elim - ECPv6.0.6.2//NONSGML v1.0//EN
CALSCALE:GREGORIAN
METHOD:PUBLISH
X-WR-CALNAME:Eglise chrétienne évangélique Elim
X-ORIGINAL-URL:https://www.foyer-evangelique-elim.com
X-WR-CALDESC:Events for Eglise chrétienne évangélique Elim
REFRESH-INTERVAL;VALUE=DURATION:PT1H
X-Robots-Tag:noindex
X-PUBLISHED-TTL:PT1H
BEGIN:VTIMEZONE
TZID:Europe/Paris
BEGIN:DAYLIGHT
TZOFFSETFROM:+0100
TZOFFSETTO:+0200
TZNAME:CEST
DTSTART:20160327T010000
END:DAYLIGHT
BEGIN:STANDARD
TZOFFSETFROM:+0200
TZOFFSETTO:+0100
TZNAME:CET
DTSTART:20161030T010000
END:STANDARD
END:VTIMEZONE
BEGIN:VEVENT
DTSTART;VALUE=DATE:20160730
DTEND;VALUE=DATE:20160807
DTSTAMP:20260424T181618
CREATED:20160313T142445Z
LAST-MODIFIED:20200426T223410Z
UID:241-1469836800-1470527999@www.foyer-evangelique-elim.com
SUMMARY:Camp famille - "Un pour tous\, tous pour un..."
DESCRIPTION:Vous souhaitez passer du temps avec vos enfants au calme et au grand air ?\nVous êtes seul et avez envie de passer vos vacances avec d’autres chrétiens ?\nVous ne connaissez pas l’évangile et voulez découvrir la vie chrétienne au quotidien ?\nCe camp est fait pour vous !\nLa Creuse est le lieu idéal pour se ressourcer. Verdure\, rivières et lacs\, le charme de la campagne\, des super randos à faire\, des vieilles pierres\, des chevreuils\, renards\, buses et autres animaux à observer dans leur milieu naturel\, des activités de plein air (vélorail\, accrobranche\, canoë\, bouée tractée\, etc…)\, bref de quoi s’occuper tout en se vidant la tête. \nTélécharger le bulletin d’inscription avec les détails.
URL:https://www.foyer-evangelique-elim.com/event/camp-famille-un-pour-tous-tous-pour-un/
LOCATION:Camp ELIM\, Brande de la Malignière\, Crozant\, 23160\, France
CATEGORIES:Activités / Sorties
ATTACH;FMTTYPE=image/jpeg:https://www.foyer-evangelique-elim.com/wp-content/uploads/2016/03/flyer-camp-famille-2016.jpg
END:VEVENT
END:VCALENDAR