BEGIN:VCALENDAR
VERSION:2.0
PRODID:-//Eglise chrétienne évangélique Elim - ECPv6.0.6.2//NONSGML v1.0//EN
CALSCALE:GREGORIAN
METHOD:PUBLISH
X-WR-CALNAME:Eglise chrétienne évangélique Elim
X-ORIGINAL-URL:https://www.foyer-evangelique-elim.com
X-WR-CALDESC:Events for Eglise chrétienne évangélique Elim
REFRESH-INTERVAL;VALUE=DURATION:PT1H
X-Robots-Tag:noindex
X-PUBLISHED-TTL:PT1H
BEGIN:VTIMEZONE
TZID:Europe/Paris
BEGIN:DAYLIGHT
TZOFFSETFROM:+0100
TZOFFSETTO:+0200
TZNAME:CEST
DTSTART:20160327T010000
END:DAYLIGHT
BEGIN:STANDARD
TZOFFSETFROM:+0200
TZOFFSETTO:+0100
TZNAME:CET
DTSTART:20161030T010000
END:STANDARD
END:VTIMEZONE
BEGIN:VEVENT
DTSTART;TZID=Europe/Paris:20160513T200000
DTEND;TZID=Europe/Paris:20160516T170000
DTSTAMP:20260424T231007
CREATED:20160509T112900Z
LAST-MODIFIED:20160509T113357Z
UID:335-1463169600-1463418000@www.foyer-evangelique-elim.com
SUMMARY:Pentecôte 2016 - Conférences
DESCRIPTION:Thème : Les questions qui comptent et les réponses étonnantes\ndu 13 mai 2016 au 16 mai 2016 \nInvité : Pasteur Chris Shepler de Caroline du Sud (USA).
URL:https://www.foyer-evangelique-elim.com/event/pentecote-2016-conferences/
LOCATION:Eglise Baptiste du Centre-Lille\, 44 rue du faubourg de Béthune\, LILLE\, 59000\, France
CATEGORIES:Evangélisation
ATTACH;FMTTYPE=image/png:https://www.foyer-evangelique-elim.com/wp-content/uploads/2016/05/2016-Conférences_pentecote-e1462793613414.png
END:VEVENT
BEGIN:VEVENT
DTSTART;TZID=Europe/Paris:20160521T140000
DTEND;TZID=Europe/Paris:20160521T170000
DTSTAMP:20260424T231007
CREATED:20160509T111828Z
LAST-MODIFIED:20160509T113042Z
UID:332-1463839200-1463850000@www.foyer-evangelique-elim.com
SUMMARY:Marche pour Jésus
DESCRIPTION:Témoigner publiquement et ensemble de notre foi en Jésus-Christ \nhttp://www.marchepourjesus.fr/#!lille/c1vj6
URL:https://www.foyer-evangelique-elim.com/event/marche-pour-jesus/
LOCATION:Marche pour Jésus Lille\, Quai du Wault\, Lille\, France
CATEGORIES:Evangélisation
END:VEVENT
BEGIN:VEVENT
DTSTART;TZID=Europe/Paris:20160528T140000
DTEND;TZID=Europe/Paris:20160528T150000
DTSTAMP:20260424T231007
CREATED:20160319T074230Z
LAST-MODIFIED:20160509T112003Z
UID:281-1464444000-1464447600@www.foyer-evangelique-elim.com
SUMMARY:Atelier Danses folkloriques
DESCRIPTION:Atelier collectif de danses folkloriques d’Israël\, de Yougoslavie\, …
URL:https://www.foyer-evangelique-elim.com/event/atelier-danses-folkloriques/
LOCATION:Foyer Evangélique ELIM\, 48 Rue de l'Abbé Lemire\, Lambersart\, 59130\, France
CATEGORIES:Activités / Sorties
END:VEVENT
END:VCALENDAR