BEGIN:VCALENDAR
VERSION:2.0
PRODID:-//Eglise chrétienne évangélique Elim - ECPv6.0.6.2//NONSGML v1.0//EN
CALSCALE:GREGORIAN
METHOD:PUBLISH
X-ORIGINAL-URL:https://www.foyer-evangelique-elim.com
X-WR-CALDESC:Events for Eglise chrétienne évangélique Elim
REFRESH-INTERVAL;VALUE=DURATION:PT1H
X-Robots-Tag:noindex
X-PUBLISHED-TTL:PT1H
BEGIN:VTIMEZONE
TZID:Europe/Paris
BEGIN:DAYLIGHT
TZOFFSETFROM:+0100
TZOFFSETTO:+0200
TZNAME:CEST
DTSTART:20190331T010000
END:DAYLIGHT
BEGIN:STANDARD
TZOFFSETFROM:+0200
TZOFFSETTO:+0100
TZNAME:CET
DTSTART:20191027T010000
END:STANDARD
END:VTIMEZONE
BEGIN:VEVENT
DTSTART;TZID=Europe/Paris:20190317T160000
DTEND;TZID=Europe/Paris:20190317T180000
DTSTAMP:20260423T001630
CREATED:20190126T224027Z
LAST-MODIFIED:20190309T211739Z
UID:969-1552838400-1552845600@www.foyer-evangelique-elim.com
SUMMARY:Après-midi Témoignages (Thème : J'ai rompu avec mon idole)
DESCRIPTION:
URL:https://www.foyer-evangelique-elim.com/event/apres-midi-temoignages-theme-en-cours-de-definition-2/
LOCATION:Foyer Evangélique ELIM\, 48 Rue de l'Abbé Lemire\, Lambersart\, 59130\, France
CATEGORIES:Activités / Sorties,Evangélisation
ATTACH;FMTTYPE=image/jpeg:https://www.foyer-evangelique-elim.com/wp-content/uploads/2019/03/AMT_J-ai-rompu-avec-mon-idole.jpg
END:VEVENT
END:VCALENDAR