BEGIN:VCALENDAR
VERSION:2.0
PRODID:-//Eglise chrétienne évangélique Elim - ECPv6.0.6.2//NONSGML v1.0//EN
CALSCALE:GREGORIAN
METHOD:PUBLISH
X-WR-CALNAME:Eglise chrétienne évangélique Elim
X-ORIGINAL-URL:https://www.foyer-evangelique-elim.com
X-WR-CALDESC:Events for Eglise chrétienne évangélique Elim
REFRESH-INTERVAL;VALUE=DURATION:PT1H
X-Robots-Tag:noindex
X-PUBLISHED-TTL:PT1H
BEGIN:VTIMEZONE
TZID:Europe/Paris
BEGIN:DAYLIGHT
TZOFFSETFROM:+0100
TZOFFSETTO:+0200
TZNAME:CEST
DTSTART:20190331T010000
END:DAYLIGHT
BEGIN:STANDARD
TZOFFSETFROM:+0200
TZOFFSETTO:+0100
TZNAME:CET
DTSTART:20191027T010000
END:STANDARD
END:VTIMEZONE
BEGIN:VEVENT
DTSTART;TZID=Europe/Paris:20190202T180000
DTEND;TZID=Europe/Paris:20190203T173000
DTSTAMP:20260423T000236
CREATED:20181229T214747Z
LAST-MODIFIED:20181229T214747Z
UID:952-1549130400-1549215000@www.foyer-evangelique-elim.com
SUMMARY:Week-End d’Etude Biblique (avec P. HOLVÖET\, thème : « Le Fils de Dieu »)
DESCRIPTION:Week-End d’Etude Biblique avec P. HOLVÖET – thème : « Le Fils de Dieu »\, à travers l’analyse du récit de l’aveugle-né
URL:https://www.foyer-evangelique-elim.com/event/week-end-detude-biblique-avec-p-holvoet-theme-le-fils-de-dieu/
LOCATION:Foyer Evangélique ELIM\, 48 Rue de l'Abbé Lemire\, Lambersart\, 59130\, France
CATEGORIES:Activités / Sorties,Evangélisation
END:VEVENT
BEGIN:VEVENT
DTSTART;TZID=Europe/Paris:20190210T160000
DTEND;TZID=Europe/Paris:20190210T180000
DTSTAMP:20260423T000236
CREATED:20190126T222926Z
LAST-MODIFIED:20190126T222926Z
UID:967-1549814400-1549821600@www.foyer-evangelique-elim.com
SUMMARY:Après-midi Témoignages (Thème : Aux prisonniers la liberté)
DESCRIPTION:
URL:https://www.foyer-evangelique-elim.com/event/apres-midi-temoignages-theme-aux-prisonniers-la-liberte/
LOCATION:Foyer Evangélique ELIM\, 48 Rue de l'Abbé Lemire\, Lambersart\, 59130\, France
CATEGORIES:Activités / Sorties,Evangélisation
ATTACH;FMTTYPE=image/jpeg:https://www.foyer-evangelique-elim.com/wp-content/uploads/2019/01/AMT_20190210_Aux_prisonniers.jpg
END:VEVENT
END:VCALENDAR