BEGIN:VCALENDAR
VERSION:2.0
PRODID:-//Eglise chrétienne évangélique Elim - ECPv6.0.6.2//NONSGML v1.0//EN
CALSCALE:GREGORIAN
METHOD:PUBLISH
X-ORIGINAL-URL:https://www.foyer-evangelique-elim.com
X-WR-CALDESC:Events for Eglise chrétienne évangélique Elim
REFRESH-INTERVAL;VALUE=DURATION:PT1H
X-Robots-Tag:noindex
X-PUBLISHED-TTL:PT1H
BEGIN:VTIMEZONE
TZID:Europe/Paris
BEGIN:DAYLIGHT
TZOFFSETFROM:+0100
TZOFFSETTO:+0200
TZNAME:CEST
DTSTART:20190331T010000
END:DAYLIGHT
BEGIN:STANDARD
TZOFFSETFROM:+0200
TZOFFSETTO:+0100
TZNAME:CET
DTSTART:20191027T010000
END:STANDARD
END:VTIMEZONE
BEGIN:VEVENT
DTSTART;TZID=Europe/Paris:20191228T143000
DTEND;TZID=Europe/Paris:20191228T170000
DTSTAMP:20260420T070316
CREATED:20190922T124925Z
LAST-MODIFIED:20190922T124925Z
UID:1105-1577543400-1577552400@www.foyer-evangelique-elim.com
SUMMARY:Club "Oasis" (6-12 ans) : "Noël"
DESCRIPTION:
URL:https://www.foyer-evangelique-elim.com/event/club-oasis-6-12-ans-noel/
LOCATION:Foyer Evangélique ELIM\, 48 Rue de l'Abbé Lemire\, Lambersart\, 59130\, France
CATEGORIES:Activités / Sorties
END:VEVENT
BEGIN:VEVENT
DTSTART;TZID=Europe/Paris:20191228T173000
DTEND;TZID=Europe/Paris:20191228T210000
DTSTAMP:20260420T070317
CREATED:20190922T125501Z
LAST-MODIFIED:20191227T180820Z
UID:1117-1577554200-1577566800@www.foyer-evangelique-elim.com
SUMMARY:Club "Clap's" (+ de 12 ans) : "Noël"
DESCRIPTION:
URL:https://www.foyer-evangelique-elim.com/event/club-claps-de-12-ans-noel/
LOCATION:Foyer Evangélique ELIM\, 48 Rue de l'Abbé Lemire\, Lambersart\, 59130\, France
CATEGORIES:Activités / Sorties
END:VEVENT
END:VCALENDAR