BEGIN:VCALENDAR
VERSION:2.0
PRODID:-//Eglise chrétienne évangélique Elim - ECPv6.0.6.2//NONSGML v1.0//EN
CALSCALE:GREGORIAN
METHOD:PUBLISH
X-ORIGINAL-URL:https://www.foyer-evangelique-elim.com
X-WR-CALDESC:Events for Eglise chrétienne évangélique Elim
REFRESH-INTERVAL;VALUE=DURATION:PT1H
X-Robots-Tag:noindex
X-PUBLISHED-TTL:PT1H
BEGIN:VTIMEZONE
TZID:Europe/Paris
BEGIN:DAYLIGHT
TZOFFSETFROM:+0100
TZOFFSETTO:+0200
TZNAME:CEST
DTSTART:20190331T010000
END:DAYLIGHT
BEGIN:STANDARD
TZOFFSETFROM:+0200
TZOFFSETTO:+0100
TZNAME:CET
DTSTART:20191027T010000
END:STANDARD
END:VTIMEZONE
BEGIN:VEVENT
DTSTART;TZID=Europe/Paris:20191020T153000
DTEND;TZID=Europe/Paris:20191020T170000
DTSTAMP:20260420T064024
CREATED:20191012T182100Z
LAST-MODIFIED:20191012T182142Z
UID:1129-1571585400-1571590800@www.foyer-evangelique-elim.com
SUMMARY:Après-midi Témoignages : Baptême
DESCRIPTION:
URL:https://www.foyer-evangelique-elim.com/event/apres-midi-temoignages-bapteme/
LOCATION:Foyer Evangélique ELIM\, 48 Rue de l'Abbé Lemire\, Lambersart\, 59130\, France
CATEGORIES:Evangélisation,Vie d'Eglise
ATTACH;FMTTYPE=image/png:https://www.foyer-evangelique-elim.com/wp-content/uploads/2019/10/AMT-Bapteme.png
END:VEVENT
END:VCALENDAR