BEGIN:VCALENDAR
VERSION:2.0
PRODID:-//Eglise chrétienne évangélique Elim - ECPv6.0.6.2//NONSGML v1.0//EN
CALSCALE:GREGORIAN
METHOD:PUBLISH
X-ORIGINAL-URL:https://www.foyer-evangelique-elim.com
X-WR-CALDESC:Events for Eglise chrétienne évangélique Elim
REFRESH-INTERVAL;VALUE=DURATION:PT1H
X-Robots-Tag:noindex
X-PUBLISHED-TTL:PT1H
BEGIN:VTIMEZONE
TZID:Europe/Paris
BEGIN:DAYLIGHT
TZOFFSETFROM:+0100
TZOFFSETTO:+0200
TZNAME:CEST
DTSTART:20180325T010000
END:DAYLIGHT
BEGIN:STANDARD
TZOFFSETFROM:+0200
TZOFFSETTO:+0100
TZNAME:CET
DTSTART:20181028T010000
END:STANDARD
END:VTIMEZONE
BEGIN:VEVENT
DTSTART;TZID=Europe/Paris:20180901T100000
DTEND;TZID=Europe/Paris:20180901T170000
DTSTAMP:20260423T034415
CREATED:20180825T202546Z
LAST-MODIFIED:20180825T202546Z
UID:871-1535796000-1535821200@www.foyer-evangelique-elim.com
SUMMARY:Braderie de Lille
DESCRIPTION:Témoignage à la C.L.C\, rue du Molinel
URL:https://www.foyer-evangelique-elim.com/event/braderie-de-lille/
LOCATION:Librairie chrétienne C.L.C. Lille\, 40 Rue du Molinel\, LILLE\, 59000\, France
CATEGORIES:Evangélisation
END:VEVENT
END:VCALENDAR