BEGIN:VCALENDAR
VERSION:2.0
PRODID:-//Eglise chrétienne évangélique Elim - ECPv6.0.6.2//NONSGML v1.0//EN
CALSCALE:GREGORIAN
METHOD:PUBLISH
X-ORIGINAL-URL:https://www.foyer-evangelique-elim.com
X-WR-CALDESC:Events for Eglise chrétienne évangélique Elim
REFRESH-INTERVAL;VALUE=DURATION:PT1H
X-Robots-Tag:noindex
X-PUBLISHED-TTL:PT1H
BEGIN:VTIMEZONE
TZID:Europe/Paris
BEGIN:DAYLIGHT
TZOFFSETFROM:+0100
TZOFFSETTO:+0200
TZNAME:CEST
DTSTART:20180325T010000
END:DAYLIGHT
BEGIN:STANDARD
TZOFFSETFROM:+0200
TZOFFSETTO:+0100
TZNAME:CET
DTSTART:20181028T010000
END:STANDARD
END:VTIMEZONE
BEGIN:VEVENT
DTSTART;TZID=Europe/Paris:20180603T153000
DTEND;TZID=Europe/Paris:20180603T173000
DTSTAMP:20260423T083057
CREATED:20160827T124913Z
LAST-MODIFIED:20180603T072846Z
UID:446-1528039800-1528047000@www.foyer-evangelique-elim.com
SUMMARY:Etude biblique communautaire "Notre précieuse Bible" (avec Anne-Marie HEINEKEN)
DESCRIPTION:Etude biblique autour d’un thème défini (suite de l’étude du 15/04/18)
URL:https://www.foyer-evangelique-elim.com/event/etude-biblique-communautaire-2nde-partie/
LOCATION:La Madeleine\, La Madeleine\, 59110\, France
CATEGORIES:Evangélisation
END:VEVENT
END:VCALENDAR