BEGIN:VCALENDAR
VERSION:2.0
PRODID:-//Eglise chrétienne évangélique Elim - ECPv6.0.6.2//NONSGML v1.0//EN
CALSCALE:GREGORIAN
METHOD:PUBLISH
X-WR-CALNAME:Eglise chrétienne évangélique Elim
X-ORIGINAL-URL:https://www.foyer-evangelique-elim.com
X-WR-CALDESC:Events for Eglise chrétienne évangélique Elim
REFRESH-INTERVAL;VALUE=DURATION:PT1H
X-Robots-Tag:noindex
X-PUBLISHED-TTL:PT1H
BEGIN:VTIMEZONE
TZID:Europe/Paris
BEGIN:DAYLIGHT
TZOFFSETFROM:+0100
TZOFFSETTO:+0200
TZNAME:CEST
DTSTART:20170326T010000
END:DAYLIGHT
BEGIN:STANDARD
TZOFFSETFROM:+0200
TZOFFSETTO:+0100
TZNAME:CET
DTSTART:20171029T010000
END:STANDARD
END:VTIMEZONE
BEGIN:VEVENT
DTSTART;TZID=Europe/Paris:20171217T153000
DTEND;TZID=Europe/Paris:20171217T173000
DTSTAMP:20260423T181153
CREATED:20161119T221626Z
LAST-MODIFIED:20171211T064629Z
UID:514-1513524600-1513531800@www.foyer-evangelique-elim.com
SUMMARY:Fête des ainés (Lambersart)
DESCRIPTION:Autour d’un bon goûter\, vous pourrez entendre et voir des enfants\, des jeunes et des adultes de l’Eglise Evangélique ELIM et de l’Assemblée Evangélique d’Hazebrouck chanter et interpréter différents scénarios. \nVenez en toute simplicité\, dans la joie et la paix.
URL:https://www.foyer-evangelique-elim.com/event/fete-des-aines-lambersart/
LOCATION:Foyer Evangélique ELIM\, 48 Rue de l'Abbé Lemire\, Lambersart\, 59130\, France
CATEGORIES:Vie d'Eglise
END:VEVENT
END:VCALENDAR