BEGIN:VCALENDAR
VERSION:2.0
PRODID:-//Eglise chrétienne évangélique Elim - ECPv6.0.6.2//NONSGML v1.0//EN
CALSCALE:GREGORIAN
METHOD:PUBLISH
X-ORIGINAL-URL:https://www.foyer-evangelique-elim.com
X-WR-CALDESC:Events for Eglise chrétienne évangélique Elim
REFRESH-INTERVAL;VALUE=DURATION:PT1H
X-Robots-Tag:noindex
X-PUBLISHED-TTL:PT1H
BEGIN:VTIMEZONE
TZID:Europe/Paris
BEGIN:DAYLIGHT
TZOFFSETFROM:+0100
TZOFFSETTO:+0200
TZNAME:CEST
DTSTART:20170326T010000
END:DAYLIGHT
BEGIN:STANDARD
TZOFFSETFROM:+0200
TZOFFSETTO:+0100
TZNAME:CET
DTSTART:20171029T010000
END:STANDARD
END:VTIMEZONE
BEGIN:VEVENT
DTSTART;TZID=Europe/Paris:20170212T160000
DTEND;TZID=Europe/Paris:20170212T180000
DTSTAMP:20260424T100415
CREATED:20170202T194421Z
LAST-MODIFIED:20170202T194421Z
UID:552-1486915200-1486922400@www.foyer-evangelique-elim.com
SUMMARY:Après-midi Témoignages (Thème :  "Secours et fidélité dans l'épreuve")
DESCRIPTION:
URL:https://www.foyer-evangelique-elim.com/event/apres-midi-temoignages-theme-secours-et-fidelite-dans-lepreuve/
LOCATION:Foyer Evangélique ELIM\, 48 Rue de l'Abbé Lemire\, Lambersart\, 59130\, France
CATEGORIES:Evangélisation,Vie d'Eglise
ATTACH;FMTTYPE=image/jpeg:https://www.foyer-evangelique-elim.com/wp-content/uploads/2017/02/Temoignages_Tenir-bon.jpg
END:VEVENT
END:VCALENDAR