BEGIN:VCALENDAR
VERSION:2.0
PRODID:-//Eglise chrétienne évangélique Elim - ECPv6.0.6.2//NONSGML v1.0//EN
CALSCALE:GREGORIAN
METHOD:PUBLISH
X-WR-CALNAME:Eglise chrétienne évangélique Elim
X-ORIGINAL-URL:https://www.foyer-evangelique-elim.com
X-WR-CALDESC:Events for Eglise chrétienne évangélique Elim
REFRESH-INTERVAL;VALUE=DURATION:PT1H
X-Robots-Tag:noindex
X-PUBLISHED-TTL:PT1H
BEGIN:VTIMEZONE
TZID:Europe/Paris
BEGIN:DAYLIGHT
TZOFFSETFROM:+0100
TZOFFSETTO:+0200
TZNAME:CEST
DTSTART:20160327T010000
END:DAYLIGHT
BEGIN:STANDARD
TZOFFSETFROM:+0200
TZOFFSETTO:+0100
TZNAME:CET
DTSTART:20161030T010000
END:STANDARD
END:VTIMEZONE
BEGIN:VEVENT
DTSTART;TZID=Europe/Paris:20161113T160000
DTEND;TZID=Europe/Paris:20161113T180000
DTSTAMP:20260424T151402
CREATED:20160720T225107Z
LAST-MODIFIED:20160827T123219Z
UID:419-1479052800-1479060000@www.foyer-evangelique-elim.com
SUMMARY:Après-midi Témoignages (Thème :  "Les addictions")
DESCRIPTION:Partage de témoignages chrétiens autour du thème des « Addictions ».
URL:https://www.foyer-evangelique-elim.com/event/apres-midi-temoignages-theme-les-addictions/
LOCATION:Foyer Evangélique ELIM\, 48 Rue de l'Abbé Lemire\, Lambersart\, 59130\, France
CATEGORIES:Evangélisation,Vie d'Eglise
END:VEVENT
END:VCALENDAR